BEGIN:VCALENDAR
VERSION:2.0
PRODID:-//Tukios.com/
BEGIN:VEVENT
UID:f0f6c2e3-67b9-4771-977b-35a85532924d@www.edwardssmallmortuary.com
DTSTAMP:20260422T202037Z
DTSTART:20260424T160000Z
DTEND:20260424T210000Z
SUMMARY:Viewing
DESCRIPTION:
URL:https://www.edwardssmallmortuary.com/obituaries/jaylah-rainey
LOCATION: 1011 Martin Luther King Jr Dr.  Fort Valley GA 31030
GEO:32.5393729;-83.8754224
END:VEVENT
END:VCALENDAR