BEGIN:VCALENDAR
VERSION:2.0
PRODID:-//Tukios.com/
BEGIN:VEVENT
UID:3bcaefae-f6c4-4f97-aee1-26b2222d411d@www.edwardssmallmortuary.com
DTSTAMP:20260422T202006Z
DTSTART:20260425T180000Z
DTEND:20260425T190000Z
SUMMARY:Funeral Service
DESCRIPTION:
URL:https://www.edwardssmallmortuary.com/obituaries/jaylah-rainey
LOCATION:Cool Springs Baptist Church 365 Cool Springs Rd  Fort Valley GA 
	31030
GEO:32.6150767;-83.9381941
END:VEVENT
END:VCALENDAR