BEGIN:VCALENDAR
VERSION:2.0
PRODID:-//Tukios.com/
BEGIN:VEVENT
UID:871e4206-914a-4fe5-ab58-1b632167c04e@www.edwardssmallmortuary.com
DTSTAMP:20260423T204754Z
DTSTART:20260429T170000Z
DTEND:20260429T210000Z
SUMMARY:Viewing
DESCRIPTION:
URL:https://www.edwardssmallmortuary.com/obituaries/julius-woodson
LOCATION: 1011 Martin Luther King Jr Dr.  Fort Valley GA 31030
GEO:32.5393729;-83.8754224
END:VEVENT
END:VCALENDAR