BEGIN:VCALENDAR
VERSION:2.0
PRODID:-//Tukios.com/
BEGIN:VEVENT
UID:8e73c082-094b-4122-95e6-1000d1d9613f@www.edwardssmallmortuary.com
DTSTAMP:20260423T204355Z
DTSTART:20260430T150000Z
DTEND:20260430T160000Z
SUMMARY:Graveside Service
DESCRIPTION:
URL:https://www.edwardssmallmortuary.com/obituaries/julius-woodson
LOCATION:Gordon Chapel AME Church 497 Gordon Chapel Church Rd  Roberta GA 
	31078
GEO:32.6337619;-83.9485987
END:VEVENT
END:VCALENDAR