BEGIN:VCALENDAR
VERSION:2.0
PRODID:-//Tukios.com/
BEGIN:VEVENT
UID:be9590ff-92cd-4401-ae73-1e7aeecdf743@www.edwardssmallmortuary.com
DTSTAMP:20260426T025700Z
DTSTART:20260427T210000Z
DTEND:20260427T230000Z
SUMMARY:Viewing
DESCRIPTION:
URL:https://www.edwardssmallmortuary.com/obituaries/walter-latimore
LOCATION: 1011 Martin Luther King Jr Dr.  Fort Valley GA 31030
GEO:32.5393729;-83.8754224
END:VEVENT
END:VCALENDAR