BEGIN:VCALENDAR
VERSION:2.0
PRODID:-//Tukios.com/
BEGIN:VEVENT
UID:52aa02c0-64c2-486b-9a10-8b06acff6b9f@www.edwardssmallmortuary.com
DTSTAMP:20260426T025727Z
DTSTART:20260428T150000Z
DTEND:20260428T160000Z
SUMMARY:Funeral Service
DESCRIPTION:
URL:https://www.edwardssmallmortuary.com/obituaries/walter-latimore
LOCATION:Greater Faith Babies Ministries COGBF 1000 Tulip Dr  Fort Valley 
	GA 31030
GEO:32.5687775;-83.8989839
END:VEVENT
END:VCALENDAR