BEGIN:VCALENDAR
VERSION:2.0
PRODID:-//Tukios.com/
BEGIN:VEVENT
UID:e428a898-1542-4886-a39f-94d86c65cb8d@www.edwardssmallmortuary.com
DTSTAMP:20260426T025949Z
DTSTART:20260428
SUMMARY:Burial
DESCRIPTION:
URL:https://www.edwardssmallmortuary.com/obituaries/walter-latimore
LOCATION:Latimore Cemetery 1333 Kay Rd.  Fort Valley GA 31030
GEO:32.6189615;-83.7617587
END:VEVENT
END:VCALENDAR